BEGIN:VCALENDAR
VERSION:2.0
PRODID:-//WV Hive Network - ECPv6.15.20//NONSGML v1.0//EN
CALSCALE:GREGORIAN
METHOD:PUBLISH
X-ORIGINAL-URL:https://wvhive.com
X-WR-CALDESC:Events for WV Hive Network
REFRESH-INTERVAL;VALUE=DURATION:PT1H
X-Robots-Tag:noindex
X-PUBLISHED-TTL:PT1H
BEGIN:VTIMEZONE
TZID:UTC
BEGIN:STANDARD
TZOFFSETFROM:+0000
TZOFFSETTO:+0000
TZNAME:UTC
DTSTART:20200101T000000
END:STANDARD
END:VTIMEZONE
BEGIN:VEVENT
DTSTART;TZID=UTC:20230216T080000
DTEND;TZID=UTC:20230216T120000
DTSTAMP:20260421T120424
CREATED:20230106T182118Z
LAST-MODIFIED:20230106T182118Z
UID:3650-1676534400-1676548800@wvhive.com
SUMMARY:Leadership 101
DESCRIPTION:Workshop cost $25.00.  To register\, click here \nIncreasing productivity and profitability in this hand-on training!\nThe New River Gorge Regional Development Authority (NRGRDA) has teamed up with the West Virginia University Industrial Extension Program to offer a series of low-cost training courses to be held in Beckley in the first quarter of 2023. The classes will be offered to business owners\, employees\, and individuals in the counties represented by NRGRDA and the WV Hive including Summers\, Nicholas\, Fayette\, Raleigh\, Webster\, Pocahontas\, Greenbrier\, Monroe\, Mercer\, Wyoming\, McDowell\, Mingo\, and Logan County.\nLeadership 101: Training will address the core elements of successful leadership including leadership styles\, customer relationships\, change\, coaching\, communication\, and talent retention.
URL:https://wvhive.com/event/leadership-101/
LOCATION:Historic Black Knight Muncipal Park\, 2400 South Kanawha Street\, Beckley\, 25801\, United States
CATEGORIES:Business,entrepreneur,entrepreneur education,manufacturing,Networking,student,WVU Industrial Extension
ATTACH;FMTTYPE=image/png:https://wvhive.com/wp-content/uploads/2023/01/https___cdn.evbuc_.com_images_409984599_358504085007_1_original.png
ORGANIZER;CN="NRGRDA":MAILTO:info@nrgrda.org
END:VEVENT
BEGIN:VEVENT
DTSTART;TZID=UTC:20211007T170000
DTEND;TZID=UTC:20211007T190000
DTSTAMP:20260421T120424
CREATED:20210916T182604Z
LAST-MODIFIED:20210916T194058Z
UID:1740-1633626000-1633633200@wvhive.com
SUMMARY:ZinnStarter Manufactured Products Pitch Competition
DESCRIPTION:WVU Industrial Extension Partners and the Morris L. Hayhurst Launchlab present: the ZinnStarter Manufactured Products Pitch Competition. This pitch is an opportunity for any WVU student with an idea for a tangible product to pitch their idea to a panel of judges and fund their idea into a reality. Applications will open on September 3\, and close on September 24 @ 5 PM. \nThe event will be held virtually on October 7 from 5 – 7 pm on Zoom. Prizes of up to 5000 will be awarded. \nTo apply click here.
URL:https://wvhive.com/event/zinnstarter-manufactured-products-pitch-competition/
LOCATION:Virtual
CATEGORIES:competition,Funding/Accounting,manufacturing,pitch,student,WV Launch Lab,WVU,WVU Industrial Extension
ATTACH;FMTTYPE=image/jpeg:https://wvhive.com/wp-content/uploads/2021/09/wvu-launch-lab.jpg
ORGANIZER;CN="WVU Morris L. Hayhurst LaunchLab":MAILTO:cwhite17@mail.wvu.edu
END:VEVENT
END:VCALENDAR